`BEGIN:VCALENDAR
VERSION:2.0
PRODID:-//MTC - ECPv6.15.11//NONSGML v1.0//EN
CALSCALE:GREGORIAN
METHOD:PUBLISH
X-WR-CALNAME:MTC
X-ORIGINAL-URL:https://mtcepro.com
X-WR-CALDESC:Events for MTC
REFRESH-INTERVAL;VALUE=DURATION:PT1H
X-Robots-Tag:noindex
X-PUBLISHED-TTL:PT1H
BEGIN:VTIMEZONE
TZID:UTC
BEGIN:STANDARD
TZOFFSETFROM:+0000
TZOFFSETTO:+0000
TZNAME:UTC
DTSTART:20180101T000000
END:STANDARD
END:VTIMEZONE
BEGIN:VEVENT
DTSTART;VALUE=DATE:20190316
DTEND;VALUE=DATE:20190321
DTSTAMP:20260421T073054
CREATED:20191212T085702Z
LAST-MODIFIED:20200130T070552Z
UID:15923-1552694400-1553126399@mtcepro.com
SUMMARY:44TH RMA FOUR SEASON OPEN CHAMPIONSHIP
DESCRIPTION:
URL:https://mtcepro.com/event/44th-rma-champ/
LOCATION:NJ
CATEGORIES:Past Tournament
END:VEVENT
BEGIN:VEVENT
DTSTART;VALUE=DATE:20190302
DTEND;VALUE=DATE:20190305
DTSTAMP:20260421T073054
CREATED:20191212T090609Z
LAST-MODIFIED:20200130T070756Z
UID:15931-1551484800-1551743999@mtcepro.com
SUMMARY:2019 ARNOLD BATTLE OF COLUMBUS  MARTIAL ARTS WORLD GAMES
DESCRIPTION:
URL:https://mtcepro.com/event/boc-highlights/
LOCATION:NJ
CATEGORIES:Past Tournament
END:VEVENT
END:VCALENDAR